BEGIN:VCALENDAR
VERSION:2.0
PRODID:-//Lake County Chamber - ECPv6.15.18//NONSGML v1.0//EN
CALSCALE:GREGORIAN
METHOD:PUBLISH
X-WR-CALNAME:Lake County Chamber
X-ORIGINAL-URL:https://lakecounty-chamber.com
X-WR-CALDESC:Events for Lake County Chamber
REFRESH-INTERVAL;VALUE=DURATION:PT1H
X-Robots-Tag:noindex
X-PUBLISHED-TTL:PT1H
BEGIN:VTIMEZONE
TZID:UTC
BEGIN:STANDARD
TZOFFSETFROM:+0000
TZOFFSETTO:+0000
TZNAME:UTC
DTSTART:20250101T000000
END:STANDARD
END:VTIMEZONE
BEGIN:VEVENT
DTSTART;TZID=UTC:20260410T170000
DTEND;TZID=UTC:20260410T170000
DTSTAMP:20260423T041107
CREATED:20260402T142721Z
LAST-MODIFIED:20260410T234206Z
UID:20824-1775840400-1775840400@lakecounty-chamber.com
SUMMARY:Harbor Theater Grand Reopening Party
DESCRIPTION:Join us for this FREE open house event celebrating the grand reopening of the Harbor Theater!LIVE MUSIC by Teague Alexy\, Jim Holbeck & Shore ThingFOOD & BEVS by Rainy Rose & Harbor RailMOVIE: Cinema Paradiso showing at 8 pm\nCome check out your local theater and see what we have going on!
URL:https://lakecounty-chamber.com/event/harbor-theater-grand-reopening-party/
LOCATION:Harbor Theater\, 616 2nd Avenue\, Two Harbors\, MN\, 55616\, United States
CATEGORIES:Art & Culture,Entertainment,Family Fun,Live Music,Two Harbors
ATTACH;FMTTYPE=image/png:https://lakecounty-chamber.com/wp-content/uploads/2026/04/Grand-Reopening-Party-04zZIx.png
END:VEVENT
BEGIN:VEVENT
DTSTART;TZID=UTC:20260405T090000
DTEND;TZID=UTC:20260405T130000
DTSTAMP:20260423T041107
CREATED:20260327T185713Z
LAST-MODIFIED:20260405T234211Z
UID:20135-1775379600-1775394000@lakecounty-chamber.com
SUMMARY:Easter Brunch at Vue North
DESCRIPTION:Easter Brunch at Vue North!Sunday\, April 5\, 2026 | 9 AM – 1 PM\nGather your family and celebrate Easter with us at Vue North for a festive brunch filled with chef-crafted favorites\, sweet treats\, and fun for the kids!\nEaster Egg Hunt at 12 PMKids CraftsMeet & Greet with the Easter Bunny\n\nOur brunch buffet will feature:• Stone Fruit Salad & Berry Vinaigrette• Chef’s Soup of the Day• Brisket• Pineapple Ham• Chicken Breast with Tomato & Spinach Sauce• Scrambled Eggs & Bacon• VUE Style Potato Casserole• Sautéed Vegetables• Housemade Focaccia Bread• Pancake Decoration Station• Cheesecake & Carrot Cake\n\nPricing:Adults (12+): $35Kids (4–12): $15Under 4: Free\nTax and gratuity are automatically applied to groups of 8 or more.\nReserve your table here: https://tinyurl.com/VueNorthEasterBrunch
URL:https://lakecounty-chamber.com/event/easter-brunch-at-vue-north/
LOCATION:Vue North\, 1521 Superior Shores Drive\, Two Harbors\, MN\, 55616\, United States
CATEGORIES:Family Fun,Sunday Brunch,Two Harbors
ATTACH;FMTTYPE=image/png:https://lakecounty-chamber.com/wp-content/uploads/2026/03/Vue-North-Easter-Brunch-DWL3Jg.png
END:VEVENT
BEGIN:VEVENT
DTSTART;TZID=UTC:20260228T000000
DTEND;TZID=UTC:20260228T000000
DTSTAMP:20260423T041107
CREATED:20260129T001238Z
LAST-MODIFIED:20260226T155832Z
UID:17421-1772236800-1772236800@lakecounty-chamber.com
SUMMARY:3rd Annual Snow Day In The Bay
DESCRIPTION:Join us (and Rocky) for the 3rd Annual Snow Day in the Bay on Saturday\, February 28th!\n\n\nSnow Day in the Bay is an annual community celebration in Silver Bay\, MN that celebrates Winter on the North Shore with a vintage snowmobile ride\, bags tourney\, cribbage tourney\, bingo\, local vendors\, great food\, children’s events\, live music\, and more!
URL:https://lakecounty-chamber.com/event/3rd-annual-snow-day-in-the-bay/
LOCATION:Silver Bay Municipal Liquor Store & Lounge\, 95 Outer Dr\, Silver Bay\, MN\, 55614\, United States
CATEGORIES:Community Festivals,Family Fun,Featured,Games,Live Music,Outdoor Recreation,Silver Bay
ATTACH;FMTTYPE=image/png:https://lakecounty-chamber.com/wp-content/uploads/2026/02/Snowbay-In-The-Bay-nn3RVx.png
END:VEVENT
BEGIN:VEVENT
DTSTART;VALUE=DATE:20260227
DTEND;VALUE=DATE:20260302
DTSTAMP:20260423T041107
CREATED:20260130T002734Z
LAST-MODIFIED:20260226T155832Z
UID:17470-1772150400-1772409599@lakecounty-chamber.com
SUMMARY:Lake Superior Löyly Sauna Lounge
DESCRIPTION:Lake Superior Löyly Sauna Lounge at Grand Superior Lodge: A Monthly Sauna Experience \nStep into our lakeside patio\, where a range of activities await. Relax in one or more mobile saunas\, take a refreshing plunge into the icy waters of Lake Superior\, or try our cold plunge tanks for a unique experience. Inside our banquet room\, you’ll find a cozy space to enjoy hot teas\, explore beauty products\, and unwind with friends. A private bar completes the experience\, offering an array of beverages to suit every taste. \nEvent Dates\n\nJanuary 23 – 25\, 2026\nFebruary 13-15\, 2026\nMarch 20-22\, 2026\nApril & May TBD
URL:https://lakecounty-chamber.com/event/lake-superior-loyly-sauna-lounge-2/
LOCATION:Grand Superior Lodge\, 2826 MN-61\, Two Harbors\, MN\, 55616\, United States
CATEGORIES:Family Fun,Outdoor Recreation,Two Harbors
ATTACH;FMTTYPE=image/png:https://lakecounty-chamber.com/wp-content/uploads/2026/01/loyly-lounge-email-header-qS6pi6.png
END:VEVENT
END:VCALENDAR