BEGIN:VCALENDAR
VERSION:2.0
PRODID:-//Lake County Chamber - ECPv6.15.18//NONSGML v1.0//EN
CALSCALE:GREGORIAN
METHOD:PUBLISH
X-WR-CALNAME:Lake County Chamber
X-ORIGINAL-URL:https://lakecounty-chamber.com
X-WR-CALDESC:Events for Lake County Chamber
REFRESH-INTERVAL;VALUE=DURATION:PT1H
X-Robots-Tag:noindex
X-PUBLISHED-TTL:PT1H
BEGIN:VTIMEZONE
TZID:America/Chicago
BEGIN:DAYLIGHT
TZOFFSETFROM:-0600
TZOFFSETTO:-0500
TZNAME:CDT
DTSTART:20250309T080000
END:DAYLIGHT
BEGIN:STANDARD
TZOFFSETFROM:-0500
TZOFFSETTO:-0600
TZNAME:CST
DTSTART:20251102T070000
END:STANDARD
BEGIN:DAYLIGHT
TZOFFSETFROM:-0600
TZOFFSETTO:-0500
TZNAME:CDT
DTSTART:20260308T080000
END:DAYLIGHT
BEGIN:STANDARD
TZOFFSETFROM:-0500
TZOFFSETTO:-0600
TZNAME:CST
DTSTART:20261101T070000
END:STANDARD
BEGIN:DAYLIGHT
TZOFFSETFROM:-0600
TZOFFSETTO:-0500
TZNAME:CDT
DTSTART:20270314T080000
END:DAYLIGHT
BEGIN:STANDARD
TZOFFSETFROM:-0500
TZOFFSETTO:-0600
TZNAME:CST
DTSTART:20271107T070000
END:STANDARD
END:VTIMEZONE
BEGIN:VEVENT
DTSTART;TZID=America/Chicago:20260423T170000
DTEND;TZID=America/Chicago:20260423T220000
DTSTAMP:20260422T054852
CREATED:20260305T184117Z
LAST-MODIFIED:20260320T155540Z
UID:18835-1776963600-1776981600@lakecounty-chamber.com
SUMMARY:2026 Lake County Chamber Spring Gala
DESCRIPTION:Please join us for the 2026 Lake County Chamber of Commerce Spring Gala\, Thursday\, April 23\, 2026\, at Superior Shores Resort. \n\n5:00 PM SOCIAL HOUR\n6:30 PM DINNER\n7:30 PM ENTERTAINMENT\n8:15 PM AWARDS CEREMONY\nAFTER PARTY AT THE VUE HOSTED BY ADOLFSON-PETERSON\n\nCOST: $65 per person \nEVENT SPONSORSHIP\nPLATINUM SPONSORSHIP \nIncludes a reserved table and eight (8) Gala registrations\, plus your company logo on event displays\, slideshow\, and table placards. Discounted tickets for additional guests. \nGOLD SPONSORSHIP \nIncludes four (4) Gala registrations\, plus your company logo on event displays\, slideshow\, and table placards. \nSILVER SPONSORSHIP \nIncludes two (2) Gala registrations\, plus your company logo featured on the slideshow. \nREGISTER NOW
URL:https://lakecounty-chamber.com/event/2026-spring-gala/
LOCATION:Superior Shores Resort\, 1521 Superior Shores Drive\, Two Harbors\, MN\, 55616\, United States
CATEGORIES:Lake Count Chamber of Commerce
ATTACH;FMTTYPE=image/png:https://lakecounty-chamber.com/wp-content/uploads/2026/03/event-main-image-2026.png
END:VEVENT
BEGIN:VEVENT
DTSTART;TZID=America/Chicago:20260430T123000
DTEND;TZID=America/Chicago:20260430T153000
DTSTAMP:20260422T054852
CREATED:20260406T194028Z
LAST-MODIFIED:20260406T205419Z
UID:21452-1777552200-1777563000@lakecounty-chamber.com
SUMMARY:2026 Lake County Community Career Fair
DESCRIPTION:The Lake County Career Fair is coming up on April 30th\, and we’d love to have you involved! This event brings together local students and businesses to build connections\, explore career opportunities\, and strengthen our workforce pipeline. \nConsider hosting a booth and joining this meaningful community event. \nCOST: \n\nChamber Members: $100\nNon-members: $150\n\nNOTE: All registered businesses must provide an attendee list by April 27th. Background checks are required by law. \nREGISTER NOW
URL:https://lakecounty-chamber.com/event/2026-lake-county-community-career-fair/
LOCATION:Two Harbors High School\, 1626 NF-15\, Two Harbors\, MN\, 55616\, United States
CATEGORIES:Lake Count Chamber of Commerce
ATTACH;FMTTYPE=image/png:https://lakecounty-chamber.com/wp-content/uploads/2026/04/Chamber-Event-Graphics-Template.png
END:VEVENT
END:VCALENDAR