BEGIN:VCALENDAR
VERSION:2.0
PRODID:-//Lake County Chamber - ECPv6.15.18//NONSGML v1.0//EN
CALSCALE:GREGORIAN
METHOD:PUBLISH
X-WR-CALNAME:Lake County Chamber
X-ORIGINAL-URL:https://lakecounty-chamber.com
X-WR-CALDESC:Events for Lake County Chamber
REFRESH-INTERVAL;VALUE=DURATION:PT1H
X-Robots-Tag:noindex
X-PUBLISHED-TTL:PT1H
BEGIN:VTIMEZONE
TZID:UTC
BEGIN:STANDARD
TZOFFSETFROM:+0000
TZOFFSETTO:+0000
TZNAME:UTC
DTSTART:20250101T000000
END:STANDARD
END:VTIMEZONE
BEGIN:VEVENT
DTSTART;TZID=UTC:20260425T143000
DTEND;TZID=UTC:20260425T160000
DTSTAMP:20260422T042537
CREATED:20260408T201318Z
LAST-MODIFIED:20260422T085728Z
UID:21823-1777127400-1777132800@lakecounty-chamber.com
SUMMARY:Celebrate Spring Fishing Runs
DESCRIPTION:Celebrate spring by learning about spring fish activity. These important\, and often over-looked wildlife\, require specific spring conditions to kick off their celebrations. Stop by the theater for exciting fish-related activities. Come for unique art making opportunities and games for all ages. \nTo attend the program\, visit the visitor center theater. Park in the wayside lot for free parking. \nWatch birds hunting for fish near the mouth of the Gooseberry River. Park at Lakeview or Picnic Flow parking lot for easy access to the river delta. Parking on this side of the park requires a state park pass. Stop inside the visitor center or buy your permit online.
URL:https://lakecounty-chamber.com/event/celebrate-spring-fishing-runs/
LOCATION:Gooseberry Falls State Park\, 3206 MN-61\, Two Harbors\, MN\, 55616\, United States
CATEGORIES:Two Harbors,Wildlife & Nature
ATTACH;FMTTYPE=image/png:https://lakecounty-chamber.com/wp-content/uploads/2026/04/The-Fish-of-Minnesota-U7kd5G.png
END:VEVENT
BEGIN:VEVENT
DTSTART;TZID=UTC:20260425T150000
DTEND;TZID=UTC:20260425T150000
DTSTAMP:20260422T042537
CREATED:20260311T215732Z
LAST-MODIFIED:20260422T085728Z
UID:19408-1777129200-1777129200@lakecounty-chamber.com
SUMMARY:Monique Forcier Kundalini Yoga
DESCRIPTION:Experience a grounding and uplifting Kundalini Yoga session with Monique Forcier on the shores of Lake Superior. This ancient practice supports your mind\, body\, and spirit—helping balance the nervous system\, deepen self‑connection\, and elevate consciousness while giving you a meaningful physical workout. \nMake it a full wellness weekend. Lodging packages at Larsmont Cottages include yoga\, sound bathing\, and access to lakeside relaxation spaces for a complete restorative getaway.
URL:https://lakecounty-chamber.com/event/monique-forcier-kundalini-yoga-2/
LOCATION:Larsmont Cottages\, 596 Larsmont Way\, Two Harbors\, MN\, 55616\, United States
CATEGORIES:Art & Culture,Two Harbors
ATTACH;FMTTYPE=image/jpeg:https://lakecounty-chamber.com/wp-content/uploads/2026/03/ginny-rose-stewart-UxkcSzRWM2s-unsplash-Bpq1iT.jpg
END:VEVENT
BEGIN:VEVENT
DTSTART;TZID=UTC:20260425T180000
DTEND;TZID=UTC:20260425T200000
DTSTAMP:20260422T042537
CREATED:20260402T145844Z
LAST-MODIFIED:20260422T085728Z
UID:20853-1777140000-1777147200@lakecounty-chamber.com
SUMMARY:Paul Lawrence Live @ Larsmont Trading Post
DESCRIPTION:Join us for dinner\, drinks\, and free live music by Paul Lawrence! Music starts at 6 PM on Saturday\, April 25th! Reservations recommended. Call 218-510-0608\n\nPaul Lawrence Bio:\nOriginal folk-country-blues. Ranging from soulful\, hard-earned ballads to bluesy boot-stompers. Tasteful covers of classic country and Americana.\nPaul’s new album was recorded at NeonBrown Studios with Ryan Young of Trampled by Turtles\, and sponsored in part by the Arrowhead Regional Arts Council.\n“Paul Lawrence is an awesome vocalist and a great songwriter; he has an earnestness in his sound that is so refreshing! Moments come to life through his storytelling and you just want more. ”
URL:https://lakecounty-chamber.com/event/paul-lawrence-live-larsmont-trading-post-2/
LOCATION:Larsmont Trading Post\, 497 Scenic Drive\, Two Harbors\, MN\, 55616\, United States
CATEGORIES:Live Music,Two Harbors
ATTACH;FMTTYPE=image/png:https://lakecounty-chamber.com/wp-content/uploads/2026/04/Paul-Lawrence-1-bcaMaH.png
END:VEVENT
BEGIN:VEVENT
DTSTART;TZID=UTC:20260425T180000
DTEND;TZID=UTC:20260425T200000
DTSTAMP:20260422T042537
CREATED:20260421T182704Z
LAST-MODIFIED:20260422T085728Z
UID:24105-1777140000-1777147200@lakecounty-chamber.com
SUMMARY:Paul Lawrence at Larsmont Trading Post
DESCRIPTION:Wrap up the weekend with the soulful melodies of Paul Lawrence\, performing on Saturday from 6 to 8 PM. Known for his creative songwriting and emotive voice\, Paul’s performance is sure to touch hearts and leave a lasting impression.
URL:https://lakecounty-chamber.com/event/paul-lawrence-at-larsmont-trading-post/
LOCATION:Larsmont Trading Post\, 497 Scenic Drive\, Two Harbors\, MN\, 55616\, United States
CATEGORIES:Live Music,Two Harbors
ATTACH;FMTTYPE=image/png:https://lakecounty-chamber.com/wp-content/uploads/2026/04/Paul-Lawrence-2-KKmBgO.png
END:VEVENT
BEGIN:VEVENT
DTSTART;TZID=UTC:20260425T180000
DTEND;TZID=UTC:20260425T210000
DTSTAMP:20260422T042537
CREATED:20260421T155702Z
LAST-MODIFIED:20260422T085728Z
UID:24077-1777140000-1777150800@lakecounty-chamber.com
SUMMARY:John Kerns Music at The Tipsy Mosquito
DESCRIPTION:Come hear live music from John Kerns Music at The Tipsy Mosquito on Saturday\, April 25th! Music goes from 6 PM to 9 PM!
URL:https://lakecounty-chamber.com/event/john-kerns-music-at-the-tipsy-mosquito/
LOCATION:The Tipsy Mosquito\, 532 1st Ave\, Two Harbors\, 55616\, United States
CATEGORIES:Live Music,Two Harbors
ATTACH;FMTTYPE=image/png:https://lakecounty-chamber.com/wp-content/uploads/2026/04/John-Kerns-Music-1-Vb6rgi.png
END:VEVENT
BEGIN:VEVENT
DTSTART;TZID=UTC:20260425T190000
DTEND;TZID=UTC:20260425T190000
DTSTAMP:20260422T042537
CREATED:20260311T215732Z
LAST-MODIFIED:20260422T085740Z
UID:19409-1777143600-1777143600@lakecounty-chamber.com
SUMMARY:Sound Bath Class by Monique Forcier
DESCRIPTION:Join Monique Forcier for a sound healing experience. It’s a sound and meditation journey that is probably unlike anything you’ve ever experienced. Sound can change you on an energetic level\, it can shift your internal energy state\, activate your chakras\, and initiate healing. \nEveryone walks away with an experience that is important to them. Some people feel cosmic energy\, while others experience physical and emotional release. This sound experience can also help you come to greater awareness and connect you to your higher power. \nMake it a full wellness weekend. Lodging packages at Larsmont Cottages include yoga\, sound bathing\, and access to lakeside relaxation spaces for a complete restorative getaway.
URL:https://lakecounty-chamber.com/event/sound-bath-class-by-monique-forcier-2/
LOCATION:Larsmont Cottages\, 596 Larsmont Way\, Two Harbors\, MN\, 55616\, United States
CATEGORIES:Two Harbors
ATTACH;FMTTYPE=image/png:https://lakecounty-chamber.com/wp-content/uploads/2026/03/Sound-Bath-Class-9iyx9F.png
END:VEVENT
BEGIN:VEVENT
DTSTART;TZID=UTC:20260426T100000
DTEND;TZID=UTC:20260426T140000
DTSTAMP:20260422T042537
CREATED:20260226T155837Z
LAST-MODIFIED:20260422T085740Z
UID:18759-1777197600-1777212000@lakecounty-chamber.com
SUMMARY:Sunday Brunch Buffet at the Tipsy Mosquito
DESCRIPTION:Every Sunday\, The Tipsy Mosquito offers a Brunch Buffet for $15.99 (children 10 and under\, $6.99). \nThe Brunch Menu includes: \n\nScrambled Eggs\nCheesy Potatoes\nBacon & Sausage\nBiscuits & Gravy\nCaramel Rolls\nBottomless Mimosas – $15
URL:https://lakecounty-chamber.com/event/sunday-brunch-buffet-at-the-tipsy-mosquito-20/
LOCATION:The Tipsy Mosquito\, 532 1st Ave\, Two Harbors\, 55616\, United States
CATEGORIES:Sunday Brunch,Two Harbors
ATTACH;FMTTYPE=image/png:https://lakecounty-chamber.com/wp-content/uploads/2025/12/tipsy-brunch-buffet-O4tu0p.png
END:VEVENT
BEGIN:VEVENT
DTSTART;TZID=UTC:20260426T160000
DTEND;TZID=UTC:20260426T180000
DTSTAMP:20260422T042537
CREATED:20260421T182705Z
LAST-MODIFIED:20260422T085740Z
UID:24108-1777219200-1777226400@lakecounty-chamber.com
SUMMARY:Songwriters In The Round at Harbor Rail Pub
DESCRIPTION:Come on out and join the festivities as six of Minnesota’s accomplished singer-songwriters get together and swap songs\, tell stories of inspiration and hope\, and make genuine connections.
URL:https://lakecounty-chamber.com/event/songwriters-in-the-round-at-harbor-rail-pub/
LOCATION:Harbor Rail Pub\, 602 1st Ave\, Two Harbors\, MN\, 55616\, United States
CATEGORIES:Live Music,Two Harbors
ATTACH;FMTTYPE=image/png:https://lakecounty-chamber.com/wp-content/uploads/2026/04/April-Songwriters-In-The-Round-oP7fWm.png
END:VEVENT
BEGIN:VEVENT
DTSTART;TZID=UTC:20260429T180000
DTEND;TZID=UTC:20260429T200000
DTSTAMP:20260422T042537
CREATED:20260414T204207Z
LAST-MODIFIED:20260422T085741Z
UID:22876-1777485600-1777492800@lakecounty-chamber.com
SUMMARY:Yuya Mix Live @ The Tipsy Mosquito
DESCRIPTION:Yuya Mix is back at The Tipsy Mosquito. Enjoy a relaxing evening with this one-man band while enjoying signature cocktails in our cozy space.
URL:https://lakecounty-chamber.com/event/yuya-mix-live-the-tipsy-mosquito-3/
LOCATION:The Tipsy Mosquito\, 532 1st Ave\, Two Harbors\, 55616\, United States
CATEGORIES:Live Music,Two Harbors
ATTACH;FMTTYPE=image/png:https://lakecounty-chamber.com/wp-content/uploads/2026/02/Yuya-Mix-fnH4aw.png
END:VEVENT
BEGIN:VEVENT
DTSTART;VALUE=DATE:20260430
DTEND;VALUE=DATE:20260501
DTSTAMP:20260422T042537
CREATED:20260226T155837Z
LAST-MODIFIED:20260422T085741Z
UID:18761-1777507200-1777593599@lakecounty-chamber.com
SUMMARY:Pizza & Pints
DESCRIPTION:Pizza & Pints at Castle Danger Brewery – Every Thursday\, All Day! \nIt’s the perfect combo — pizza and beer! Bring in your favorite pizza or have one delivered to the taproom and get $1 off up to four beers by the glass. \nHere’s the fine print: \n\nValid with any pizza brought in or delivered locally\nDiscount applies to draught pours only\nNo discounts on other beverages or merchandise\nNot valid for Mug Club members\n\nGrab a slice\, pour a pint\, and make your Thursday dangerously delicious!
URL:https://lakecounty-chamber.com/event/pizza-pints-14/
LOCATION:Castle Danger Brewery\, 17 7th St\, Two Harbors\, MN\, 55616\, United States
CATEGORIES:Two Harbors
ATTACH;FMTTYPE=image/png:https://lakecounty-chamber.com/wp-content/uploads/2026/01/pizza-and-pints-castle-danger-athHBr.png
END:VEVENT
BEGIN:VEVENT
DTSTART;TZID=UTC:20260430T180000
DTEND;TZID=UTC:20260430T200000
DTSTAMP:20260422T042537
CREATED:20260226T155837Z
LAST-MODIFIED:20260422T085741Z
UID:18762-1777572000-1777579200@lakecounty-chamber.com
SUMMARY:Open Mic Night
DESCRIPTION:Come check out Open Mic Night\, every Thursday from 6 PM to 8 PM at Larsmont Trading Post!
URL:https://lakecounty-chamber.com/event/open-mic-night-14/
LOCATION:Harbor Rail Pub\, 602 1st Ave\, Two Harbors\, MN\, 55616\, United States
CATEGORIES:Karaoke,Two Harbors
ATTACH;FMTTYPE=image/png:https://lakecounty-chamber.com/wp-content/uploads/2026/01/Open-Mic-Night-YDB8nY.png
END:VEVENT
BEGIN:VEVENT
DTSTART;TZID=UTC:20260501T060000
DTEND;TZID=UTC:20260501T073000
DTSTAMP:20260422T042537
CREATED:20260421T185713Z
LAST-MODIFIED:20260422T085741Z
UID:24119-1777615200-1777620600@lakecounty-chamber.com
SUMMARY:Summer Birding Hike (for beginners or intermediate birders)
DESCRIPTION:Join Park Naturalist on a hike to the lake along the Gooseberry River. We will be looking and listening for birds as we walk a section of the River View trail and along the Gichi Gummi State Bike trail (approximately 1.75 mile round trip). The river delta is rich with nutrients and typically has open water early in the spring where birds congregate. This early in the morning\, we also often see deer\, beaver\, and otter in the river. \nThis path is packed gravel and clay and will likely be wet or muddy in the spring. Depending on conditions\, wear water resistant shoes and bring walking poles for traction on slick clay. The majority of the trail is flat but there are some steeper slopes towards the lake. Binoculars and bird guides will be available to use. \nMeet inside the visitor center West doors\, outside of the wayside rest bathrooms. Free parking in the wayside rest lot near the visitor center is available.
URL:https://lakecounty-chamber.com/event/summer-birding-hike-for-beginners-or-intermediate-birders/
LOCATION:Gooseberry Falls State Park\, 3206 MN-61\, Two Harbors\, MN\, 55616\, United States
CATEGORIES:Two Harbors,Wildlife & Nature
ATTACH;FMTTYPE=image/png:https://lakecounty-chamber.com/wp-content/uploads/2026/03/River-View-Trail-Spring-Birding-Hike-TVqeCV.png
END:VEVENT
BEGIN:VEVENT
DTSTART;TZID=UTC:20260503T100000
DTEND;TZID=UTC:20260503T140000
DTSTAMP:20260422T042537
CREATED:20260226T155837Z
LAST-MODIFIED:20260422T085754Z
UID:18763-1777802400-1777816800@lakecounty-chamber.com
SUMMARY:Sunday Brunch Buffet at the Tipsy Mosquito
DESCRIPTION:Every Sunday\, The Tipsy Mosquito offers a Brunch Buffet for $15.99 (children 10 and under\, $6.99). \nThe Brunch Menu includes: \n\nScrambled Eggs\nCheesy Potatoes\nBacon & Sausage\nBiscuits & Gravy\nCaramel Rolls\nBottomless Mimosas – $15
URL:https://lakecounty-chamber.com/event/sunday-brunch-buffet-at-the-tipsy-mosquito-21/
LOCATION:The Tipsy Mosquito\, 532 1st Ave\, Two Harbors\, 55616\, United States
CATEGORIES:Sunday Brunch,Two Harbors
ATTACH;FMTTYPE=image/png:https://lakecounty-chamber.com/wp-content/uploads/2025/12/tipsy-brunch-buffet-O4tu0p.png
END:VEVENT
BEGIN:VEVENT
DTSTART;TZID=UTC:20260505T180000
DTEND;TZID=UTC:20260505T200000
DTSTAMP:20260422T042537
CREATED:20260226T155837Z
LAST-MODIFIED:20260422T085754Z
UID:18764-1778004000-1778011200@lakecounty-chamber.com
SUMMARY:Monthly Trivia Night with Trivia Mafia
DESCRIPTION:Monthly Trivia Night with Trivia Mafia \nPut your knowledge to the test at Castle Danger Brewery’s Monthly Trivia Night\, happening every first Tuesday of the month at 6 pm. Gather your friends\, grab a pint\, and get ready for a fun evening of friendly competition. \nIt’s free to play\, and the top three teams will walk away with prizes. Trivia Mafia keeps the questions fresh\, challenging\, and entertaining—so whether you’re a seasoned trivia buff or just in it for the laughs\, there’s something for everyone.
URL:https://lakecounty-chamber.com/event/monthly-trivia-night-with-trivia-mafia-5/
LOCATION:Castle Danger Brewery\, 17 7th St\, Two Harbors\, MN\, 55616\, United States
CATEGORIES:Games,Two Harbors
ATTACH;FMTTYPE=image/png:https://lakecounty-chamber.com/wp-content/uploads/2025/12/Trivia-Night_IG-FB-graphic-V11Trq.png
END:VEVENT
BEGIN:VEVENT
DTSTART;VALUE=DATE:20260507
DTEND;VALUE=DATE:20260508
DTSTAMP:20260422T042537
CREATED:20260226T155837Z
LAST-MODIFIED:20260422T085754Z
UID:18766-1778112000-1778198399@lakecounty-chamber.com
SUMMARY:Pizza & Pints
DESCRIPTION:Pizza & Pints at Castle Danger Brewery – Every Thursday\, All Day! \nIt’s the perfect combo — pizza and beer! Bring in your favorite pizza or have one delivered to the taproom and get $1 off up to four beers by the glass. \nHere’s the fine print: \n\nValid with any pizza brought in or delivered locally\nDiscount applies to draught pours only\nNo discounts on other beverages or merchandise\nNot valid for Mug Club members\n\nGrab a slice\, pour a pint\, and make your Thursday dangerously delicious!
URL:https://lakecounty-chamber.com/event/pizza-pints-15/
LOCATION:Castle Danger Brewery\, 17 7th St\, Two Harbors\, MN\, 55616\, United States
CATEGORIES:Two Harbors
ATTACH;FMTTYPE=image/png:https://lakecounty-chamber.com/wp-content/uploads/2026/01/pizza-and-pints-castle-danger-athHBr.png
END:VEVENT
BEGIN:VEVENT
DTSTART;TZID=UTC:20260510T100000
DTEND;TZID=UTC:20260510T140000
DTSTAMP:20260422T042537
CREATED:20260226T155837Z
LAST-MODIFIED:20260422T085754Z
UID:18767-1778407200-1778421600@lakecounty-chamber.com
SUMMARY:Sunday Brunch Buffet at the Tipsy Mosquito
DESCRIPTION:Every Sunday\, The Tipsy Mosquito offers a Brunch Buffet for $15.99 (children 10 and under\, $6.99). \nThe Brunch Menu includes: \n\nScrambled Eggs\nCheesy Potatoes\nBacon & Sausage\nBiscuits & Gravy\nCaramel Rolls\nBottomless Mimosas – $15
URL:https://lakecounty-chamber.com/event/sunday-brunch-buffet-at-the-tipsy-mosquito-22/
LOCATION:The Tipsy Mosquito\, 532 1st Ave\, Two Harbors\, 55616\, United States
CATEGORIES:Sunday Brunch,Two Harbors
ATTACH;FMTTYPE=image/png:https://lakecounty-chamber.com/wp-content/uploads/2025/12/tipsy-brunch-buffet-O4tu0p.png
END:VEVENT
BEGIN:VEVENT
DTSTART;VALUE=DATE:20260514
DTEND;VALUE=DATE:20260515
DTSTAMP:20260422T042537
CREATED:20260226T155837Z
LAST-MODIFIED:20260422T085806Z
UID:18769-1778716800-1778803199@lakecounty-chamber.com
SUMMARY:Pizza & Pints
DESCRIPTION:Pizza & Pints at Castle Danger Brewery – Every Thursday\, All Day! \nIt’s the perfect combo — pizza and beer! Bring in your favorite pizza or have one delivered to the taproom and get $1 off up to four beers by the glass. \nHere’s the fine print: \n\nValid with any pizza brought in or delivered locally\nDiscount applies to draught pours only\nNo discounts on other beverages or merchandise\nNot valid for Mug Club members\n\nGrab a slice\, pour a pint\, and make your Thursday dangerously delicious!
URL:https://lakecounty-chamber.com/event/pizza-pints-16/
LOCATION:Castle Danger Brewery\, 17 7th St\, Two Harbors\, MN\, 55616\, United States
CATEGORIES:Two Harbors
ATTACH;FMTTYPE=image/png:https://lakecounty-chamber.com/wp-content/uploads/2026/01/pizza-and-pints-castle-danger-athHBr.png
END:VEVENT
BEGIN:VEVENT
DTSTART;TZID=UTC:20260514T173000
DTEND;TZID=UTC:20260514T173000
DTSTAMP:20260422T042537
CREATED:20260414T204208Z
LAST-MODIFIED:20260422T085806Z
UID:22878-1778779800-1778779800@lakecounty-chamber.com
SUMMARY:Guided Watercolor & Ink Mini Frames
DESCRIPTION:Join us for a creative and relaxing afternoon of watercolor and ink at The Tipsy Mosquito in Two Harbors\, MN! In this fun\, approachable class\, you’ll create a full page of watercolor and ink designs that will become 7–9 mini artworks.\n\nWe’ll explore simple watercolor techniques paired with ink\, and you’ll be guided step by step while still having plenty of freedom to make each piece your own. Choose from a variety of inspirations\, including wildflowers\, birth flowers\, mushrooms\, Lake Superior\, and more.\n\nNo experience needed! This class is perfect for beginners and seasoned artists alike.\n\nEach participant will receive:One wooden 3×4 frame with a 2×3 mat (included in the class price) Choice of five frame colors available the day of classOne finished\, framed piece to take home + remaining mini artworks to keep or gift\n\nAll supplies and instruction are included.\nWhen: Thursday\, May 14th\, 2026Time: 5:30 PM (class runs 2+ hours)Price: $65Where: The Tipsy Mosquito623 1st Ave\, Two Harbors\, MN 55616\n\n Please arrive no later than 5 minutes before class.\nA minimum of 7 participants is required. You will be notified if the class does not meet this requirement.\n\nClasses are non-refundable within 48 hours of the class date.\nQuestions? Feel free to reach out — I’d love to have you join us!
URL:https://lakecounty-chamber.com/event/guided-watercolor-ink-mini-frames/
LOCATION:The Tipsy Mosquito\, 532 1st Ave\, Two Harbors\, 55616\, United States
CATEGORIES:Art & Culture,Two Harbors
ATTACH;FMTTYPE=image/png:https://lakecounty-chamber.com/wp-content/uploads/2026/04/Watercolo-Ink-Mini-Frames-jMGWl4.png
END:VEVENT
BEGIN:VEVENT
DTSTART;TZID=UTC:20260515T173000
DTEND;TZID=UTC:20260515T190000
DTSTAMP:20260422T042537
CREATED:20260226T155837Z
LAST-MODIFIED:20260422T085807Z
UID:18770-1778866200-1778871600@lakecounty-chamber.com
SUMMARY:Third Friday Community Supper
DESCRIPTION:Join us every third Friday of the month for a FREE community dinner at the United Church of Two Harbors. Each supper includes a full meal and dessert (vegan option available). \n\nView the Monthly Menus below: \nOctober 17\, 2025 \nBeef stew or lentil soup\, bread\, rolls\, dessert \nNovember 21\, 2025 \nChicken Teriyaki & rice\, vegetables\, dessert \nDecember 19\, 2025 \nRed lentil & chickpea stew\, Naan (flatbread)\, dessert \nJanuary 16\, 2026 \nPizza burgers\, mac and cheese\, salad\, dessert \nFebruary 20\, 2026 \nShepherd’s pie\, cornbread\, salad\, fruit bars \nMarch 20\, 2026 \nChicken lasagna\, broccoli\, pumpkin bars \nApril 17\, 2026 \nPasta e fagioli soup\, rolls\, dessert \nMay 15\, 2026 \nMexican
URL:https://lakecounty-chamber.com/event/third-friday-community-supper-6/
LOCATION:United Church of Two Harbors\, 531 3rd Avenue\, Two Harbors\, MN\, 55616\, United States
CATEGORIES:Community,Two Harbors
ATTACH;FMTTYPE=image/png:https://lakecounty-chamber.com/wp-content/uploads/2025/12/community-supper-event-image-0LeWGM.png
END:VEVENT
BEGIN:VEVENT
DTSTART;TZID=UTC:20260515T180000
DTEND;TZID=UTC:20260515T200000
DTSTAMP:20260422T042537
CREATED:20260414T204208Z
LAST-MODIFIED:20260422T085807Z
UID:22880-1778868000-1778875200@lakecounty-chamber.com
SUMMARY:MorningBird Live @ Larsmont Trading Post
DESCRIPTION:Join us for food\, drinks and live music by Morningbird! Reservations recommended for preferred seating. Reserve online at larsmonttradingpost.com or by phone 218-510-0608\n\nMorningbirdGENRE: Folk\, Folk Rock\, Americana\n\nMorningbird is a powerhouse quartet (sometimes trio) with an eclectic vibe. Multi-instrumentalists Jill Burkes (vocals\, violin\, guitar) and Josh Palmi (vocals\, guitar) bring a rare chemistry to their performances. Supplemented by Shane Kingsland on Bass and Jim Pietila on Percussion\, the band creates a seamless fusion of folk\, rock & country stylings. Rooted in an authenticity that is both grounded and free spirited\, their music has been described by critics as folk-Americana\, sometimes offering a gospel edge or Appalachian harmonic structure. The group is string driven\, performing traditional & original song.\n\n“They’re musicians from the Iron Range of Minnesota & right from the start their style’s a refreshingly modernized throwback to duos & groups of the 60s and early 70s that carved out the more acoustic folk-storytelling songbook.”-Americana Highways
URL:https://lakecounty-chamber.com/event/morningbird-live-larsmont-trading-post/
LOCATION:Larsmont Trading Post\, 497 Scenic Drive\, Two Harbors\, MN\, 55616\, United States
CATEGORIES:Live Music,Two Harbors
ATTACH;FMTTYPE=image/png:https://lakecounty-chamber.com/wp-content/uploads/2026/04/MorningBird-TyKxHD.png
END:VEVENT
BEGIN:VEVENT
DTSTART;TZID=UTC:20260516T100000
DTEND;TZID=UTC:20260516T180000
DTSTAMP:20260422T042537
CREATED:20260408T181325Z
LAST-MODIFIED:20260422T085807Z
UID:21784-1778925600-1778954400@lakecounty-chamber.com
SUMMARY:Photography & Art at the Rock: Stephanie Anderson
DESCRIPTION:Photography and Art at the Rock is a study in place\, perspective\, and connection.\n\nFor the month of May\, we are proud to feature Stephanie Anderson\, the artist behind The Hillside Creative\, whose work explores the harmony between architecture\, travel\, and the natural world.\n\nInspired by Minnesota’s North Shore and the Lake Superior region\, Stephanie’s hand-painted watercolor and gouache pieces capture the spaces where human ingenuity meets wild landscape. From beloved modes of travel to iconic structures set against open sky\, her work reflects both movement and stillness — and the beauty found where they meet.\n\nHer creative home is rooted in Minnesota’s rugged shoreline\, where land\, water\, and sky shape not only the view\, but the spirit.\n\nStep inside\, slow down\, and experience the North Shore through her eyes.\n\nOn display May 1–31\n\nStephanie Anderson will be onsite to share more about her work on the following date:\nSaturday\, May 16 | 10 AM – 6 PM\n\nCost is included in regular site admission.
URL:https://lakecounty-chamber.com/event/photography-art-at-the-rock-stephanie-anderson/
LOCATION:Split Rock Lighthouse\, 3713 Split Rock Lighthouse Rd.\, Two Harbors\, MN\, 55616\, United States
CATEGORIES:Art & Culture,Two Harbors
ATTACH;FMTTYPE=image/png:https://lakecounty-chamber.com/wp-content/uploads/2026/04/Stephanie-Anderson-PqqK9R.png
END:VEVENT
BEGIN:VEVENT
DTSTART;TZID=UTC:20260517T100000
DTEND;TZID=UTC:20260517T140000
DTSTAMP:20260422T042537
CREATED:20260226T155838Z
LAST-MODIFIED:20260226T155838Z
UID:18773-1779012000-1779026400@lakecounty-chamber.com
SUMMARY:Sunday Brunch Buffet at the Tipsy Mosquito
DESCRIPTION:Every Sunday\, The Tipsy Mosquito offers a Brunch Buffet for $15.99 (children 10 and under\, $6.99). \nThe Brunch Menu includes: \n\nScrambled Eggs\nCheesy Potatoes\nBacon & Sausage\nBiscuits & Gravy\nCaramel Rolls\nBottomless Mimosas – $15
URL:https://lakecounty-chamber.com/event/sunday-brunch-buffet-at-the-tipsy-mosquito-23/
LOCATION:The Tipsy Mosquito\, 532 1st Ave\, Two Harbors\, 55616\, United States
CATEGORIES:Sunday Brunch,Two Harbors
ATTACH;FMTTYPE=image/png:https://lakecounty-chamber.com/wp-content/uploads/2025/12/tipsy-brunch-buffet-O4tu0p.png
END:VEVENT
BEGIN:VEVENT
DTSTART;TZID=UTC:20260519T180000
DTEND;TZID=UTC:20260519T200000
DTSTAMP:20260422T042537
CREATED:20260226T155838Z
LAST-MODIFIED:20260226T155838Z
UID:18774-1779213600-1779220800@lakecounty-chamber.com
SUMMARY:Books & Brews
DESCRIPTION:Join the Two Harbors Public Library & Castle Danger Brewery every 3rd Tuesday of the month for Books & Brews! From 6-8 pm\, bring the book you are currently reading and chat with fellow book lovers. No specific genre\, no specific title. Anything you are reading! \nEvery book lover who brings their book to chat about will receive $1 off their first beer!
URL:https://lakecounty-chamber.com/event/books-brews-6/
LOCATION:Castle Danger Brewery\, 17 7th St\, Two Harbors\, MN\, 55616\, United States
CATEGORIES:Art & Culture,Two Harbors
ATTACH;FMTTYPE=image/png:https://lakecounty-chamber.com/wp-content/uploads/2025/12/Books-Brews-1-9wlXr8.png
END:VEVENT
BEGIN:VEVENT
DTSTART;VALUE=DATE:20260521
DTEND;VALUE=DATE:20260522
DTSTAMP:20260422T042537
CREATED:20260226T155838Z
LAST-MODIFIED:20260226T155838Z
UID:18776-1779321600-1779407999@lakecounty-chamber.com
SUMMARY:Pizza & Pints
DESCRIPTION:Pizza & Pints at Castle Danger Brewery – Every Thursday\, All Day! \nIt’s the perfect combo — pizza and beer! Bring in your favorite pizza or have one delivered to the taproom and get $1 off up to four beers by the glass. \nHere’s the fine print: \n\nValid with any pizza brought in or delivered locally\nDiscount applies to draught pours only\nNo discounts on other beverages or merchandise\nNot valid for Mug Club members\n\nGrab a slice\, pour a pint\, and make your Thursday dangerously delicious!
URL:https://lakecounty-chamber.com/event/pizza-pints-17/
LOCATION:Castle Danger Brewery\, 17 7th St\, Two Harbors\, MN\, 55616\, United States
CATEGORIES:Two Harbors
ATTACH;FMTTYPE=image/png:https://lakecounty-chamber.com/wp-content/uploads/2026/01/pizza-and-pints-castle-danger-athHBr.png
END:VEVENT
BEGIN:VEVENT
DTSTART;TZID=UTC:20260524T100000
DTEND;TZID=UTC:20260524T140000
DTSTAMP:20260422T042537
CREATED:20260226T155838Z
LAST-MODIFIED:20260226T155838Z
UID:18777-1779616800-1779631200@lakecounty-chamber.com
SUMMARY:Sunday Brunch Buffet at the Tipsy Mosquito
DESCRIPTION:Every Sunday\, The Tipsy Mosquito offers a Brunch Buffet for $15.99 (children 10 and under\, $6.99). \nThe Brunch Menu includes: \n\nScrambled Eggs\nCheesy Potatoes\nBacon & Sausage\nBiscuits & Gravy\nCaramel Rolls\nBottomless Mimosas – $15
URL:https://lakecounty-chamber.com/event/sunday-brunch-buffet-at-the-tipsy-mosquito-24/
LOCATION:The Tipsy Mosquito\, 532 1st Ave\, Two Harbors\, 55616\, United States
CATEGORIES:Sunday Brunch,Two Harbors
ATTACH;FMTTYPE=image/png:https://lakecounty-chamber.com/wp-content/uploads/2025/12/tipsy-brunch-buffet-O4tu0p.png
END:VEVENT
END:VCALENDAR